BEGIN:VCALENDAR
VERSION:2.0
PRODID:-//Columbus Recreation and Parks Department - ECPv6.15.20//NONSGML v1.0//EN
CALSCALE:GREGORIAN
METHOD:PUBLISH
X-WR-CALNAME:Columbus Recreation and Parks Department
X-ORIGINAL-URL:https://columbusrecparks.com
X-WR-CALDESC:Events for Columbus Recreation and Parks Department
REFRESH-INTERVAL;VALUE=DURATION:PT1H
X-Robots-Tag:noindex
X-PUBLISHED-TTL:PT1H
BEGIN:VTIMEZONE
TZID:America/New_York
BEGIN:DAYLIGHT
TZOFFSETFROM:-0500
TZOFFSETTO:-0400
TZNAME:EDT
DTSTART:20250309T070000
END:DAYLIGHT
BEGIN:STANDARD
TZOFFSETFROM:-0400
TZOFFSETTO:-0500
TZNAME:EST
DTSTART:20251102T060000
END:STANDARD
BEGIN:DAYLIGHT
TZOFFSETFROM:-0500
TZOFFSETTO:-0400
TZNAME:EDT
DTSTART:20260308T070000
END:DAYLIGHT
BEGIN:STANDARD
TZOFFSETFROM:-0400
TZOFFSETTO:-0500
TZNAME:EST
DTSTART:20261101T060000
END:STANDARD
BEGIN:DAYLIGHT
TZOFFSETFROM:-0500
TZOFFSETTO:-0400
TZNAME:EDT
DTSTART:20270314T070000
END:DAYLIGHT
BEGIN:STANDARD
TZOFFSETFROM:-0400
TZOFFSETTO:-0500
TZNAME:EST
DTSTART:20271107T060000
END:STANDARD
END:VTIMEZONE
BEGIN:VEVENT
DTSTART;TZID=America/New_York:20260410T140000
DTEND;TZID=America/New_York:20260410T140000
DTSTAMP:20260424T213850
CREATED:20260326T140859Z
LAST-MODIFIED:20260326T140903Z
UID:10006287-1775829600-1775829600@columbusrecparks.com
SUMMARY:Barnett – Mobile Produce Market
DESCRIPTION:Eligible families can pick up a one-week supply of fresh produce at no cost. Even is first-come\, first-served while produce lasts.
URL:https://columbusrecparks.com/calendar/barnett-mobile-produce-market/2026-04-10/
LOCATION:Barnett Community Center\, 1184 Barnett Rd.\, Columbus\, OH\, 43227\, United States
CATEGORIES:Barnett Community Center,Food Office
END:VEVENT
BEGIN:VEVENT
DTSTART;TZID=America/New_York:20260404T100000
DTEND;TZID=America/New_York:20260404T103000
DTSTAMP:20260424T213850
CREATED:20260313T133943Z
LAST-MODIFIED:20260313T140053Z
UID:10006217-1775296800-1775298600@columbusrecparks.com
SUMMARY:2026 Egg Hunts
DESCRIPTION:Join us as we gather to celebrate spring by doing egg hunts throughout our local community centers. The event will be filled with fun activities for all the youth in our community. \nNot sure where to go? Click here to find a local community center near you and call the front desk to learn more! 
URL:https://columbusrecparks.com/calendar/2026-egg-hunts/
LOCATION:Barnett Community Center\, 1184 Barnett Rd.\, Columbus\, OH\, 43227\, United States
CATEGORIES:Adams Community Center,Barack Community Center,Barnett Community Center,Blackburn Community Center,Brentnell Community Center,Carriage Place Community Center,Community Centers,Dodge Community Center,Douglas Community Center,Driving Park Community Center,Far East Community Center,Featured,Feddersen Community Center,Gillie Community Center,Glenwood Community Center,Holton Community Center,Howard Community Center,Lazelle Woods Community Center,Marion Franklin Community Center,Milo Grogan Community Center,Schiller Community Center,Scioto Southland Community Center,Sullivant Gardens Community Center,Thompson Community Center,Tuttle Community Center,Westgate Community Center,Whetstone Community Center,Woodward Park Community Center
ATTACH;FMTTYPE=image/jpeg:https://columbusrecparks.com/wp-content/uploads/2026/03/Spring-Eggs-scaled-e1773410127460.jpeg
END:VEVENT
BEGIN:VEVENT
DTSTART;TZID=America/New_York:20260204T120000
DTEND;TZID=America/New_York:20260204T130000
DTSTAMP:20260424T213851
CREATED:20260128T153540Z
LAST-MODIFIED:20260128T174134Z
UID:10006180-1770206400-1770210000@columbusrecparks.com
SUMMARY:Senior Programming Updates and Discussion: Barnett Community Center
DESCRIPTION:We are hosting a few sessions at community centers to discuss the updated pricing for senior programs. We want your thoughts and feedback to continue to sustain senior programming for the future. Join at any one of the following five sessions. Each of the events will have the same content so you only need to attend one session. \nThe second meeting will be held at Barnett Community Center\, located at 1184 Barnett Road\, Columbus\, Ohio\, 43227 on Wednesday\, Feb. 4\, from 12-1 p.m. You can pre-register for the meeting here. \nWe hope to see you there!
URL:https://columbusrecparks.com/calendar/senior-programming-updates-and-discussion-barnett-community-center/
LOCATION:Barnett Community Center\, 1184 Barnett Rd.\, Columbus\, OH\, 43227\, United States
CATEGORIES:Barnett Community Center,Department Events,Featured,Fifty Plus Recreation
ATTACH;FMTTYPE=image/jpeg:https://columbusrecparks.com/wp-content/uploads/2025/12/IMG_2189-scaled-e1765833826683.jpg
END:VEVENT
END:VCALENDAR