BEGIN:VCALENDAR
VERSION:2.0
PRODID:-//Columbus Recreation and Parks Department - ECPv6.15.20//NONSGML v1.0//EN
CALSCALE:GREGORIAN
METHOD:PUBLISH
X-WR-CALNAME:Columbus Recreation and Parks Department
X-ORIGINAL-URL:https://columbusrecparks.com
X-WR-CALDESC:Events for Columbus Recreation and Parks Department
REFRESH-INTERVAL;VALUE=DURATION:PT1H
X-Robots-Tag:noindex
X-PUBLISHED-TTL:PT1H
BEGIN:VTIMEZONE
TZID:America/New_York
BEGIN:DAYLIGHT
TZOFFSETFROM:-0500
TZOFFSETTO:-0400
TZNAME:EDT
DTSTART:20250309T070000
END:DAYLIGHT
BEGIN:STANDARD
TZOFFSETFROM:-0400
TZOFFSETTO:-0500
TZNAME:EST
DTSTART:20251102T060000
END:STANDARD
BEGIN:DAYLIGHT
TZOFFSETFROM:-0500
TZOFFSETTO:-0400
TZNAME:EDT
DTSTART:20260308T070000
END:DAYLIGHT
BEGIN:STANDARD
TZOFFSETFROM:-0400
TZOFFSETTO:-0500
TZNAME:EST
DTSTART:20261101T060000
END:STANDARD
BEGIN:DAYLIGHT
TZOFFSETFROM:-0500
TZOFFSETTO:-0400
TZNAME:EDT
DTSTART:20270314T070000
END:DAYLIGHT
BEGIN:STANDARD
TZOFFSETFROM:-0400
TZOFFSETTO:-0500
TZNAME:EST
DTSTART:20271107T060000
END:STANDARD
END:VTIMEZONE
BEGIN:VEVENT
DTSTART;TZID=America/New_York:20260417T140000
DTEND;TZID=America/New_York:20260417T140000
DTSTAMP:20260421T100357
CREATED:20260326T194821Z
LAST-MODIFIED:20260401T151111Z
UID:10006326-1776434400-1776434400@columbusrecparks.com
SUMMARY:Douglas – Mobile Produce Market
DESCRIPTION:
URL:https://columbusrecparks.com/calendar/douglas-mobile-produce-market/2026-04-17/
LOCATION:Douglas Community Center\, 1250 Windsor Ave.\, Columbus\, OH\, 43211\, United States
CATEGORIES:Douglas Community Center,Food Office
END:VEVENT
BEGIN:VEVENT
DTSTART;TZID=America/New_York:20260417T140000
DTEND;TZID=America/New_York:20260417T140000
DTSTAMP:20260421T100357
CREATED:20260326T194142Z
LAST-MODIFIED:20260401T150959Z
UID:10006319-1776434400-1776434400@columbusrecparks.com
SUMMARY:Adams – Mobile Produce Market
DESCRIPTION:Eligible families can pick up a one-week supply of fresh produce at no cost. Event is first-come\, first-served while produce lasts.
URL:https://columbusrecparks.com/calendar/adams-mobile-produce-market/2026-04-17/
LOCATION:William H. Adams Community Center\, 54 Alton Ave.\, Columbus\,\, OH\, 43219\, United States
CATEGORIES:Adams Community Center,Food Office
END:VEVENT
BEGIN:VEVENT
DTSTART;TZID=America/New_York:20260416T140000
DTEND;TZID=America/New_York:20260416T140000
DTSTAMP:20260421T100357
CREATED:20260326T190339Z
LAST-MODIFIED:20260401T150946Z
UID:10006311-1776348000-1776348000@columbusrecparks.com
SUMMARY:Tuttle – Mobile Produce Market
DESCRIPTION:Eligible families can pick up a one-week supply of fresh produce at no cost. Even is first-come\, first-served while produce lasts.
URL:https://columbusrecparks.com/calendar/tuttle-mobile-produce-market/2026-04-16/
LOCATION:Tuttle Community Center\, 240 W. Oakland Ave.\, Columbus\, OH\, 43201\, United States
CATEGORIES:Food Office,Tuttle Community Center
END:VEVENT
BEGIN:VEVENT
DTSTART;TZID=America/New_York:20260416T140000
DTEND;TZID=America/New_York:20260416T140000
DTSTAMP:20260421T100357
CREATED:20260326T185912Z
LAST-MODIFIED:20260401T150821Z
UID:10006303-1776348000-1776348000@columbusrecparks.com
SUMMARY:Linden – Mobile Produce Market
DESCRIPTION:Eligible families can pick up a one-week supply of fresh produce at no cost. Even is first-come\, first-served while produce lasts.
URL:https://columbusrecparks.com/calendar/linden-mobile-produce-market/2026-04-16/
LOCATION:Linden Community Center\, 1350 Briarwood Ave.\, Columbus\, OH\, 43211\, United States
CATEGORIES:Food Office,Linden Community Center
END:VEVENT
BEGIN:VEVENT
DTSTART;TZID=America/New_York:20260410T140000
DTEND;TZID=America/New_York:20260410T140000
DTSTAMP:20260421T100357
CREATED:20260326T141731Z
LAST-MODIFIED:20260326T195345Z
UID:10006295-1775829600-1775829600@columbusrecparks.com
SUMMARY:Far East – Mobile Produce Market
DESCRIPTION:Eligible families can pick up a one-week supply of fresh produce at no cost. Event is first-come\, first-served while produce lasts.
URL:https://columbusrecparks.com/calendar/far-east-mobile-produce-market/2026-04-10/
LOCATION:Far East Community Center\, 1826 Lattimer Dr.\, Columbus\, OH\, 43227\, United States
CATEGORIES:Far East Community Center,Food Office
END:VEVENT
BEGIN:VEVENT
DTSTART;TZID=America/New_York:20260410T140000
DTEND;TZID=America/New_York:20260410T140000
DTSTAMP:20260421T100357
CREATED:20260326T140859Z
LAST-MODIFIED:20260326T140903Z
UID:10006287-1775829600-1775829600@columbusrecparks.com
SUMMARY:Barnett – Mobile Produce Market
DESCRIPTION:Eligible families can pick up a one-week supply of fresh produce at no cost. Even is first-come\, first-served while produce lasts.
URL:https://columbusrecparks.com/calendar/barnett-mobile-produce-market/2026-04-10/
LOCATION:Barnett Community Center\, 1184 Barnett Rd.\, Columbus\, OH\, 43227\, United States
CATEGORIES:Barnett Community Center,Food Office
END:VEVENT
BEGIN:VEVENT
DTSTART;TZID=America/New_York:20260409T140000
DTEND;TZID=America/New_York:20260409T140000
DTSTAMP:20260421T100357
CREATED:20260326T140549Z
LAST-MODIFIED:20260326T140555Z
UID:10006279-1775743200-1775743200@columbusrecparks.com
SUMMARY:Holton – Mobile Produce Market
DESCRIPTION:Eligible families can pick up a one-week supply of fresh produce at no cost. Even is first-come\, first-served while produce lasts.
URL:https://columbusrecparks.com/calendar/holton-mobile-produce-market/2026-04-09/
LOCATION:Holton Community Center
CATEGORIES:Food Office,Holton Community Center
END:VEVENT
BEGIN:VEVENT
DTSTART;TZID=America/New_York:20260409T140000
DTEND;TZID=America/New_York:20260409T140000
DTSTAMP:20260421T100357
CREATED:20260326T135859Z
LAST-MODIFIED:20260326T140353Z
UID:10006271-1775743200-1775743200@columbusrecparks.com
SUMMARY:Dodge – Mobile Produce Market
DESCRIPTION:Eligible families can pick up a one-week supply of fresh produce at no cost. Even is first-come\, first-served while produce lasts.
URL:https://columbusrecparks.com/calendar/dodge-mobile-produce-market/2026-04-09/
LOCATION:Dodge Community Center\, 667 Sullivant Ave\, Columbus\, OH\, 43215\, United States
CATEGORIES:Dodge Community Center,Food Office
END:VEVENT
BEGIN:VEVENT
DTSTART;TZID=America/New_York:20260403T140000
DTEND;TZID=America/New_York:20260403T140000
DTSTAMP:20260421T100357
CREATED:20260325T203100Z
LAST-MODIFIED:20260401T151503Z
UID:10006263-1775224800-1775224800@columbusrecparks.com
SUMMARY:Marion Franklin - Mobile Produce Market
DESCRIPTION:Eligible families can pick up a one-week supply of fresh produce at no cost. Even is first-come\, first-served while produce lasts.
URL:https://columbusrecparks.com/calendar/marion-franklin-mobile-produce-market/2026-04-03/
LOCATION:Marion Franklin Community Center\, 2801 Lockbourne Rd.\, Columbus\, OH\, 43207\, United States
CATEGORIES:Food Office,Marion Franklin Community Center
END:VEVENT
BEGIN:VEVENT
DTSTART;TZID=America/New_York:20260403T140000
DTEND;TZID=America/New_York:20260403T140000
DTSTAMP:20260421T100357
CREATED:20260325T203017Z
LAST-MODIFIED:20260325T203032Z
UID:10006255-1775224800-1775224800@columbusrecparks.com
SUMMARY:Scioto Southland - Mobile Produce Market
DESCRIPTION:Eligible families can pick up a one-week supply of fresh produce at no cost. Even is first-come\, first-served while produce lasts.
URL:https://columbusrecparks.com/calendar/scioto-southland-mobile-produce-market/2026-04-03/
LOCATION:Scioto Southland Community Center\, 3901 Parsons Ave.\, Columbus\, OH\, 43207\, United States
CATEGORIES:Food Office,Scioto Southland Community Center
END:VEVENT
BEGIN:VEVENT
DTSTART;TZID=America/New_York:20260402T140000
DTEND;TZID=America/New_York:20260402T140000
DTSTAMP:20260421T100357
CREATED:20260325T202502Z
LAST-MODIFIED:20260325T202610Z
UID:10006247-1775138400-1775138400@columbusrecparks.com
SUMMARY:Sullivant Gardens- Mobile Produce Market
DESCRIPTION:Eligible families can pick up a one-week supply of fresh produce at no cost. Even is first-come\, first-served while produce lasts.
URL:https://columbusrecparks.com/calendar/sullivant-gardens-mobile-produce-market-2/2026-04-02/
LOCATION:Sullivant Gardens Community Center\, 755 Renick St.\, Columbus\, OH\, 43223\, United States
CATEGORIES:Food Office,Sullivant Gardens Community Center
END:VEVENT
BEGIN:VEVENT
DTSTART;TZID=America/New_York:20260402T140000
DTEND;TZID=America/New_York:20260402T140000
DTSTAMP:20260421T100357
CREATED:20260325T201845Z
LAST-MODIFIED:20260401T150839Z
UID:10006239-1775138400-1775138400@columbusrecparks.com
SUMMARY:Glenwood - Mobile Produce Market
DESCRIPTION:Eligible families can pick up a one-week supply of fresh produce at no cost. Even is first-come\, first-served while produce lasts.
URL:https://columbusrecparks.com/calendar/glenwood-mobile-produce-market/2026-04-02/
LOCATION:Glenwood Community Center\, 1888 Fairmont Ave.\, Columbus\, OH\, 43223\, United States
CATEGORIES:Food Office,Glenwood Community Center
END:VEVENT
BEGIN:VEVENT
DTSTART;TZID=America/New_York:20260402T140000
DTEND;TZID=America/New_York:20260402T140000
DTSTAMP:20260421T100357
CREATED:20260325T153406Z
LAST-MODIFIED:20260325T201932Z
UID:10006231-1775138400-1775138400@columbusrecparks.com
SUMMARY:Barack - Mobile Produce Market
DESCRIPTION:Eligible families can pick up a one-week supply of fresh produce at no cost. Even is first-come\, first-served while produce lasts.
URL:https://columbusrecparks.com/calendar/barack-mobile-produce-market/2026-04-02/
LOCATION:Barack Community Center\, 580 Woodrow Ave\, Columbus\, OH\, 43207\, United States
CATEGORIES:Barack Community Center,Food Office
END:VEVENT
BEGIN:VEVENT
DTSTART;TZID=America/New_York:20260306T140000
DTEND;TZID=America/New_York:20260306T140000
DTSTAMP:20260421T100357
CREATED:20260325T203100Z
LAST-MODIFIED:20260401T151503Z
UID:10006354-1772805600-1772805600@columbusrecparks.com
SUMMARY:Marion Franklin - Mobile Produce Market
DESCRIPTION:Eligible families can pick up a one-week supply of fresh produce at no cost. Even is first-come\, first-served while produce lasts.
URL:https://columbusrecparks.com/calendar/marion-franklin-mobile-produce-market/2026-03-06/
LOCATION:Marion Franklin Community Center\, 2801 Lockbourne Rd.\, Columbus\, OH\, 43207\, United States
CATEGORIES:Food Office,Marion Franklin Community Center
END:VEVENT
END:VCALENDAR