BEGIN:VCALENDAR
VERSION:2.0
PRODID:-//Columbus Recreation and Parks Department - ECPv6.15.20//NONSGML v1.0//EN
CALSCALE:GREGORIAN
METHOD:PUBLISH
X-ORIGINAL-URL:https://columbusrecparks.com
X-WR-CALDESC:Events for Columbus Recreation and Parks Department
REFRESH-INTERVAL;VALUE=DURATION:PT1H
X-Robots-Tag:noindex
X-PUBLISHED-TTL:PT1H
BEGIN:VTIMEZONE
TZID:America/New_York
BEGIN:DAYLIGHT
TZOFFSETFROM:-0500
TZOFFSETTO:-0400
TZNAME:EDT
DTSTART:20250309T070000
END:DAYLIGHT
BEGIN:STANDARD
TZOFFSETFROM:-0400
TZOFFSETTO:-0500
TZNAME:EST
DTSTART:20251102T060000
END:STANDARD
BEGIN:DAYLIGHT
TZOFFSETFROM:-0500
TZOFFSETTO:-0400
TZNAME:EDT
DTSTART:20260308T070000
END:DAYLIGHT
BEGIN:STANDARD
TZOFFSETFROM:-0400
TZOFFSETTO:-0500
TZNAME:EST
DTSTART:20261101T060000
END:STANDARD
BEGIN:DAYLIGHT
TZOFFSETFROM:-0500
TZOFFSETTO:-0400
TZNAME:EDT
DTSTART:20270314T070000
END:DAYLIGHT
BEGIN:STANDARD
TZOFFSETFROM:-0400
TZOFFSETTO:-0500
TZNAME:EST
DTSTART:20271107T060000
END:STANDARD
END:VTIMEZONE
BEGIN:VEVENT
DTSTART;TZID=America/New_York:20260528T140000
DTEND;TZID=America/New_York:20260528T140000
DTSTAMP:20260421T141904
CREATED:20260326T195938Z
LAST-MODIFIED:20260401T151352Z
UID:10006341-1779976800-1779976800@columbusrecparks.com
SUMMARY:Howard – Mobile Produce Market
DESCRIPTION:Eligible families can pick up a one-week supply of fresh produce at no cost. Event is first-come\, first-served while produce lasts.
URL:https://columbusrecparks.com/calendar/howard-mobile-produce-market/2026-05-28/
LOCATION:Howard Community Center\, 2505 N. Cassady Ave.\, Columbus\, OH\, 43219\, United States
CATEGORIES:Food Office,Howard Community Center
END:VEVENT
BEGIN:VEVENT
DTSTART;TZID=America/New_York:20260604T140000
DTEND;TZID=America/New_York:20260604T140000
DTSTAMP:20260421T141904
CREATED:20260325T153406Z
LAST-MODIFIED:20260325T201932Z
UID:10006233-1780581600-1780581600@columbusrecparks.com
SUMMARY:Barack - Mobile Produce Market
DESCRIPTION:Eligible families can pick up a one-week supply of fresh produce at no cost. Even is first-come\, first-served while produce lasts.
URL:https://columbusrecparks.com/calendar/barack-mobile-produce-market/2026-06-04/
LOCATION:Barack Community Center\, 580 Woodrow Ave\, Columbus\, OH\, 43207\, United States
CATEGORIES:Barack Community Center,Food Office
END:VEVENT
BEGIN:VEVENT
DTSTART;TZID=America/New_York:20260604T140000
DTEND;TZID=America/New_York:20260604T140000
DTSTAMP:20260421T141904
CREATED:20260325T201845Z
LAST-MODIFIED:20260401T150839Z
UID:10006241-1780581600-1780581600@columbusrecparks.com
SUMMARY:Glenwood - Mobile Produce Market
DESCRIPTION:Eligible families can pick up a one-week supply of fresh produce at no cost. Even is first-come\, first-served while produce lasts.
URL:https://columbusrecparks.com/calendar/glenwood-mobile-produce-market/2026-06-04/
LOCATION:Glenwood Community Center\, 1888 Fairmont Ave.\, Columbus\, OH\, 43223\, United States
CATEGORIES:Food Office,Glenwood Community Center
END:VEVENT
BEGIN:VEVENT
DTSTART;TZID=America/New_York:20260604T140000
DTEND;TZID=America/New_York:20260604T140000
DTSTAMP:20260421T141904
CREATED:20260325T202502Z
LAST-MODIFIED:20260325T202610Z
UID:10006249-1780581600-1780581600@columbusrecparks.com
SUMMARY:Sullivant Gardens- Mobile Produce Market
DESCRIPTION:Eligible families can pick up a one-week supply of fresh produce at no cost. Even is first-come\, first-served while produce lasts.
URL:https://columbusrecparks.com/calendar/sullivant-gardens-mobile-produce-market-2/2026-06-04/
LOCATION:Sullivant Gardens Community Center\, 755 Renick St.\, Columbus\, OH\, 43223\, United States
CATEGORIES:Food Office,Sullivant Gardens Community Center
END:VEVENT
BEGIN:VEVENT
DTSTART;TZID=America/New_York:20260605T140000
DTEND;TZID=America/New_York:20260605T140000
DTSTAMP:20260421T141904
CREATED:20260325T203017Z
LAST-MODIFIED:20260325T203032Z
UID:10006257-1780668000-1780668000@columbusrecparks.com
SUMMARY:Scioto Southland - Mobile Produce Market
DESCRIPTION:Eligible families can pick up a one-week supply of fresh produce at no cost. Even is first-come\, first-served while produce lasts.
URL:https://columbusrecparks.com/calendar/scioto-southland-mobile-produce-market/2026-06-05/
LOCATION:Scioto Southland Community Center\, 3901 Parsons Ave.\, Columbus\, OH\, 43207\, United States
CATEGORIES:Food Office,Scioto Southland Community Center
END:VEVENT
BEGIN:VEVENT
DTSTART;TZID=America/New_York:20260605T140000
DTEND;TZID=America/New_York:20260605T140000
DTSTAMP:20260421T141904
CREATED:20260325T203100Z
LAST-MODIFIED:20260401T151503Z
UID:10006265-1780668000-1780668000@columbusrecparks.com
SUMMARY:Marion Franklin - Mobile Produce Market
DESCRIPTION:Eligible families can pick up a one-week supply of fresh produce at no cost. Even is first-come\, first-served while produce lasts.
URL:https://columbusrecparks.com/calendar/marion-franklin-mobile-produce-market/2026-06-05/
LOCATION:Marion Franklin Community Center\, 2801 Lockbourne Rd.\, Columbus\, OH\, 43207\, United States
CATEGORIES:Food Office,Marion Franklin Community Center
END:VEVENT
BEGIN:VEVENT
DTSTART;TZID=America/New_York:20260611T140000
DTEND;TZID=America/New_York:20260611T140000
DTSTAMP:20260421T141904
CREATED:20260326T135859Z
LAST-MODIFIED:20260326T140353Z
UID:10006273-1781186400-1781186400@columbusrecparks.com
SUMMARY:Dodge – Mobile Produce Market
DESCRIPTION:Eligible families can pick up a one-week supply of fresh produce at no cost. Even is first-come\, first-served while produce lasts.
URL:https://columbusrecparks.com/calendar/dodge-mobile-produce-market/2026-06-11/
LOCATION:Dodge Community Center\, 667 Sullivant Ave\, Columbus\, OH\, 43215\, United States
CATEGORIES:Dodge Community Center,Food Office
END:VEVENT
BEGIN:VEVENT
DTSTART;TZID=America/New_York:20260611T140000
DTEND;TZID=America/New_York:20260611T140000
DTSTAMP:20260421T141904
CREATED:20260326T140549Z
LAST-MODIFIED:20260326T140555Z
UID:10006281-1781186400-1781186400@columbusrecparks.com
SUMMARY:Holton – Mobile Produce Market
DESCRIPTION:Eligible families can pick up a one-week supply of fresh produce at no cost. Even is first-come\, first-served while produce lasts.
URL:https://columbusrecparks.com/calendar/holton-mobile-produce-market/2026-06-11/
LOCATION:Holton Community Center
CATEGORIES:Food Office,Holton Community Center
END:VEVENT
BEGIN:VEVENT
DTSTART;TZID=America/New_York:20260612T140000
DTEND;TZID=America/New_York:20260612T140000
DTSTAMP:20260421T141904
CREATED:20260326T140859Z
LAST-MODIFIED:20260326T140903Z
UID:10006289-1781272800-1781272800@columbusrecparks.com
SUMMARY:Barnett – Mobile Produce Market
DESCRIPTION:Eligible families can pick up a one-week supply of fresh produce at no cost. Even is first-come\, first-served while produce lasts.
URL:https://columbusrecparks.com/calendar/barnett-mobile-produce-market/2026-06-12/
LOCATION:Barnett Community Center\, 1184 Barnett Rd.\, Columbus\, OH\, 43227\, United States
CATEGORIES:Barnett Community Center,Food Office
END:VEVENT
BEGIN:VEVENT
DTSTART;TZID=America/New_York:20260612T140000
DTEND;TZID=America/New_York:20260612T140000
DTSTAMP:20260421T141904
CREATED:20260326T141731Z
LAST-MODIFIED:20260326T195345Z
UID:10006297-1781272800-1781272800@columbusrecparks.com
SUMMARY:Far East – Mobile Produce Market
DESCRIPTION:Eligible families can pick up a one-week supply of fresh produce at no cost. Event is first-come\, first-served while produce lasts.
URL:https://columbusrecparks.com/calendar/far-east-mobile-produce-market/2026-06-12/
LOCATION:Far East Community Center\, 1826 Lattimer Dr.\, Columbus\, OH\, 43227\, United States
CATEGORIES:Far East Community Center,Food Office
END:VEVENT
BEGIN:VEVENT
DTSTART;TZID=America/New_York:20260618T140000
DTEND;TZID=America/New_York:20260618T140000
DTSTAMP:20260421T141904
CREATED:20260326T185912Z
LAST-MODIFIED:20260401T150821Z
UID:10006305-1781791200-1781791200@columbusrecparks.com
SUMMARY:Linden – Mobile Produce Market
DESCRIPTION:Eligible families can pick up a one-week supply of fresh produce at no cost. Even is first-come\, first-served while produce lasts.
URL:https://columbusrecparks.com/calendar/linden-mobile-produce-market/2026-06-18/
LOCATION:Linden Community Center\, 1350 Briarwood Ave.\, Columbus\, OH\, 43211\, United States
CATEGORIES:Food Office,Linden Community Center
END:VEVENT
BEGIN:VEVENT
DTSTART;TZID=America/New_York:20260618T140000
DTEND;TZID=America/New_York:20260618T140000
DTSTAMP:20260421T141904
CREATED:20260326T190339Z
LAST-MODIFIED:20260401T150946Z
UID:10006313-1781791200-1781791200@columbusrecparks.com
SUMMARY:Tuttle – Mobile Produce Market
DESCRIPTION:Eligible families can pick up a one-week supply of fresh produce at no cost. Even is first-come\, first-served while produce lasts.
URL:https://columbusrecparks.com/calendar/tuttle-mobile-produce-market/2026-06-18/
LOCATION:Tuttle Community Center\, 240 W. Oakland Ave.\, Columbus\, OH\, 43201\, United States
CATEGORIES:Food Office,Tuttle Community Center
END:VEVENT
BEGIN:VEVENT
DTSTART;TZID=America/New_York:20260619T140000
DTEND;TZID=America/New_York:20260619T140000
DTSTAMP:20260421T141904
CREATED:20260326T194142Z
LAST-MODIFIED:20260401T150959Z
UID:10006321-1781877600-1781877600@columbusrecparks.com
SUMMARY:Adams – Mobile Produce Market
DESCRIPTION:Eligible families can pick up a one-week supply of fresh produce at no cost. Event is first-come\, first-served while produce lasts.
URL:https://columbusrecparks.com/calendar/adams-mobile-produce-market/2026-06-19/
LOCATION:William H. Adams Community Center\, 54 Alton Ave.\, Columbus\,\, OH\, 43219\, United States
CATEGORIES:Adams Community Center,Food Office
END:VEVENT
BEGIN:VEVENT
DTSTART;TZID=America/New_York:20260619T140000
DTEND;TZID=America/New_York:20260619T140000
DTSTAMP:20260421T141904
CREATED:20260326T194821Z
LAST-MODIFIED:20260401T151111Z
UID:10006328-1781877600-1781877600@columbusrecparks.com
SUMMARY:Douglas – Mobile Produce Market
DESCRIPTION:
URL:https://columbusrecparks.com/calendar/douglas-mobile-produce-market/2026-06-19/
LOCATION:Douglas Community Center\, 1250 Windsor Ave.\, Columbus\, OH\, 43211\, United States
CATEGORIES:Douglas Community Center,Food Office
END:VEVENT
BEGIN:VEVENT
DTSTART;TZID=America/New_York:20260625T140000
DTEND;TZID=America/New_York:20260625T140000
DTSTAMP:20260421T141904
CREATED:20260326T195448Z
LAST-MODIFIED:20260326T195633Z
UID:10006334-1782396000-1782396000@columbusrecparks.com
SUMMARY:Feddersen – Mobile Produce Market
DESCRIPTION:Eligible families can pick up a one-week supply of fresh produce at no cost. Event is first-come\, first-served while produce lasts.
URL:https://columbusrecparks.com/calendar/feddersen-mobile-produce-market/2026-06-25/
LOCATION:Feddersen Community Center\, 3911 Dresden St.\, Columbus\, OH\, 43224\, United States
CATEGORIES:Feddersen Community Center,Food Office
END:VEVENT
BEGIN:VEVENT
DTSTART;TZID=America/New_York:20260625T140000
DTEND;TZID=America/New_York:20260625T140000
DTSTAMP:20260421T141904
CREATED:20260326T195938Z
LAST-MODIFIED:20260401T151352Z
UID:10006342-1782396000-1782396000@columbusrecparks.com
SUMMARY:Howard – Mobile Produce Market
DESCRIPTION:Eligible families can pick up a one-week supply of fresh produce at no cost. Event is first-come\, first-served while produce lasts.
URL:https://columbusrecparks.com/calendar/howard-mobile-produce-market/2026-06-25/
LOCATION:Howard Community Center\, 2505 N. Cassady Ave.\, Columbus\, OH\, 43219\, United States
CATEGORIES:Food Office,Howard Community Center
END:VEVENT
BEGIN:VEVENT
DTSTART;TZID=America/New_York:20260702T140000
DTEND;TZID=America/New_York:20260702T140000
DTSTAMP:20260421T141904
CREATED:20260325T153406Z
LAST-MODIFIED:20260325T201932Z
UID:10006234-1783000800-1783000800@columbusrecparks.com
SUMMARY:Barack - Mobile Produce Market
DESCRIPTION:Eligible families can pick up a one-week supply of fresh produce at no cost. Even is first-come\, first-served while produce lasts.
URL:https://columbusrecparks.com/calendar/barack-mobile-produce-market/2026-07-02/
LOCATION:Barack Community Center\, 580 Woodrow Ave\, Columbus\, OH\, 43207\, United States
CATEGORIES:Barack Community Center,Food Office
END:VEVENT
BEGIN:VEVENT
DTSTART;TZID=America/New_York:20260702T140000
DTEND;TZID=America/New_York:20260702T140000
DTSTAMP:20260421T141904
CREATED:20260325T201845Z
LAST-MODIFIED:20260401T150839Z
UID:10006242-1783000800-1783000800@columbusrecparks.com
SUMMARY:Glenwood - Mobile Produce Market
DESCRIPTION:Eligible families can pick up a one-week supply of fresh produce at no cost. Even is first-come\, first-served while produce lasts.
URL:https://columbusrecparks.com/calendar/glenwood-mobile-produce-market/2026-07-02/
LOCATION:Glenwood Community Center\, 1888 Fairmont Ave.\, Columbus\, OH\, 43223\, United States
CATEGORIES:Food Office,Glenwood Community Center
END:VEVENT
BEGIN:VEVENT
DTSTART;TZID=America/New_York:20260702T140000
DTEND;TZID=America/New_York:20260702T140000
DTSTAMP:20260421T141904
CREATED:20260325T202502Z
LAST-MODIFIED:20260325T202610Z
UID:10006250-1783000800-1783000800@columbusrecparks.com
SUMMARY:Sullivant Gardens- Mobile Produce Market
DESCRIPTION:Eligible families can pick up a one-week supply of fresh produce at no cost. Even is first-come\, first-served while produce lasts.
URL:https://columbusrecparks.com/calendar/sullivant-gardens-mobile-produce-market-2/2026-07-02/
LOCATION:Sullivant Gardens Community Center\, 755 Renick St.\, Columbus\, OH\, 43223\, United States
CATEGORIES:Food Office,Sullivant Gardens Community Center
END:VEVENT
BEGIN:VEVENT
DTSTART;TZID=America/New_York:20260703T140000
DTEND;TZID=America/New_York:20260703T140000
DTSTAMP:20260421T141904
CREATED:20260325T203017Z
LAST-MODIFIED:20260325T203032Z
UID:10006258-1783087200-1783087200@columbusrecparks.com
SUMMARY:Scioto Southland - Mobile Produce Market
DESCRIPTION:Eligible families can pick up a one-week supply of fresh produce at no cost. Even is first-come\, first-served while produce lasts.
URL:https://columbusrecparks.com/calendar/scioto-southland-mobile-produce-market/2026-07-03/
LOCATION:Scioto Southland Community Center\, 3901 Parsons Ave.\, Columbus\, OH\, 43207\, United States
CATEGORIES:Food Office,Scioto Southland Community Center
END:VEVENT
BEGIN:VEVENT
DTSTART;TZID=America/New_York:20260703T140000
DTEND;TZID=America/New_York:20260703T140000
DTSTAMP:20260421T141904
CREATED:20260325T203100Z
LAST-MODIFIED:20260401T151503Z
UID:10006266-1783087200-1783087200@columbusrecparks.com
SUMMARY:Marion Franklin - Mobile Produce Market
DESCRIPTION:Eligible families can pick up a one-week supply of fresh produce at no cost. Even is first-come\, first-served while produce lasts.
URL:https://columbusrecparks.com/calendar/marion-franklin-mobile-produce-market/2026-07-03/
LOCATION:Marion Franklin Community Center\, 2801 Lockbourne Rd.\, Columbus\, OH\, 43207\, United States
CATEGORIES:Food Office,Marion Franklin Community Center
END:VEVENT
BEGIN:VEVENT
DTSTART;TZID=America/New_York:20260709T140000
DTEND;TZID=America/New_York:20260709T140000
DTSTAMP:20260421T141904
CREATED:20260326T135859Z
LAST-MODIFIED:20260326T140353Z
UID:10006274-1783605600-1783605600@columbusrecparks.com
SUMMARY:Dodge – Mobile Produce Market
DESCRIPTION:Eligible families can pick up a one-week supply of fresh produce at no cost. Even is first-come\, first-served while produce lasts.
URL:https://columbusrecparks.com/calendar/dodge-mobile-produce-market/2026-07-09/
LOCATION:Dodge Community Center\, 667 Sullivant Ave\, Columbus\, OH\, 43215\, United States
CATEGORIES:Dodge Community Center,Food Office
END:VEVENT
BEGIN:VEVENT
DTSTART;TZID=America/New_York:20260709T140000
DTEND;TZID=America/New_York:20260709T140000
DTSTAMP:20260421T141904
CREATED:20260326T140549Z
LAST-MODIFIED:20260326T140555Z
UID:10006282-1783605600-1783605600@columbusrecparks.com
SUMMARY:Holton – Mobile Produce Market
DESCRIPTION:Eligible families can pick up a one-week supply of fresh produce at no cost. Even is first-come\, first-served while produce lasts.
URL:https://columbusrecparks.com/calendar/holton-mobile-produce-market/2026-07-09/
LOCATION:Holton Community Center
CATEGORIES:Food Office,Holton Community Center
END:VEVENT
BEGIN:VEVENT
DTSTART;TZID=America/New_York:20260710T140000
DTEND;TZID=America/New_York:20260710T140000
DTSTAMP:20260421T141904
CREATED:20260326T140859Z
LAST-MODIFIED:20260326T140903Z
UID:10006290-1783692000-1783692000@columbusrecparks.com
SUMMARY:Barnett – Mobile Produce Market
DESCRIPTION:Eligible families can pick up a one-week supply of fresh produce at no cost. Even is first-come\, first-served while produce lasts.
URL:https://columbusrecparks.com/calendar/barnett-mobile-produce-market/2026-07-10/
LOCATION:Barnett Community Center\, 1184 Barnett Rd.\, Columbus\, OH\, 43227\, United States
CATEGORIES:Barnett Community Center,Food Office
END:VEVENT
BEGIN:VEVENT
DTSTART;TZID=America/New_York:20260710T140000
DTEND;TZID=America/New_York:20260710T140000
DTSTAMP:20260421T141904
CREATED:20260326T141731Z
LAST-MODIFIED:20260326T195345Z
UID:10006298-1783692000-1783692000@columbusrecparks.com
SUMMARY:Far East – Mobile Produce Market
DESCRIPTION:Eligible families can pick up a one-week supply of fresh produce at no cost. Event is first-come\, first-served while produce lasts.
URL:https://columbusrecparks.com/calendar/far-east-mobile-produce-market/2026-07-10/
LOCATION:Far East Community Center\, 1826 Lattimer Dr.\, Columbus\, OH\, 43227\, United States
CATEGORIES:Far East Community Center,Food Office
END:VEVENT
BEGIN:VEVENT
DTSTART;TZID=America/New_York:20260716T140000
DTEND;TZID=America/New_York:20260716T140000
DTSTAMP:20260421T141904
CREATED:20260326T185912Z
LAST-MODIFIED:20260401T150821Z
UID:10006306-1784210400-1784210400@columbusrecparks.com
SUMMARY:Linden – Mobile Produce Market
DESCRIPTION:Eligible families can pick up a one-week supply of fresh produce at no cost. Even is first-come\, first-served while produce lasts.
URL:https://columbusrecparks.com/calendar/linden-mobile-produce-market/2026-07-16/
LOCATION:Linden Community Center\, 1350 Briarwood Ave.\, Columbus\, OH\, 43211\, United States
CATEGORIES:Food Office,Linden Community Center
END:VEVENT
BEGIN:VEVENT
DTSTART;TZID=America/New_York:20260716T140000
DTEND;TZID=America/New_York:20260716T140000
DTSTAMP:20260421T141904
CREATED:20260326T190339Z
LAST-MODIFIED:20260401T150946Z
UID:10006314-1784210400-1784210400@columbusrecparks.com
SUMMARY:Tuttle – Mobile Produce Market
DESCRIPTION:Eligible families can pick up a one-week supply of fresh produce at no cost. Even is first-come\, first-served while produce lasts.
URL:https://columbusrecparks.com/calendar/tuttle-mobile-produce-market/2026-07-16/
LOCATION:Tuttle Community Center\, 240 W. Oakland Ave.\, Columbus\, OH\, 43201\, United States
CATEGORIES:Food Office,Tuttle Community Center
END:VEVENT
BEGIN:VEVENT
DTSTART;TZID=America/New_York:20260717T140000
DTEND;TZID=America/New_York:20260717T140000
DTSTAMP:20260421T141904
CREATED:20260326T194142Z
LAST-MODIFIED:20260401T150959Z
UID:10006322-1784296800-1784296800@columbusrecparks.com
SUMMARY:Adams – Mobile Produce Market
DESCRIPTION:Eligible families can pick up a one-week supply of fresh produce at no cost. Event is first-come\, first-served while produce lasts.
URL:https://columbusrecparks.com/calendar/adams-mobile-produce-market/2026-07-17/
LOCATION:William H. Adams Community Center\, 54 Alton Ave.\, Columbus\,\, OH\, 43219\, United States
CATEGORIES:Adams Community Center,Food Office
END:VEVENT
BEGIN:VEVENT
DTSTART;TZID=America/New_York:20260717T140000
DTEND;TZID=America/New_York:20260717T140000
DTSTAMP:20260421T141904
CREATED:20260326T194821Z
LAST-MODIFIED:20260401T151111Z
UID:10006329-1784296800-1784296800@columbusrecparks.com
SUMMARY:Douglas – Mobile Produce Market
DESCRIPTION:
URL:https://columbusrecparks.com/calendar/douglas-mobile-produce-market/2026-07-17/
LOCATION:Douglas Community Center\, 1250 Windsor Ave.\, Columbus\, OH\, 43211\, United States
CATEGORIES:Douglas Community Center,Food Office
END:VEVENT
BEGIN:VEVENT
DTSTART;TZID=America/New_York:20260723T140000
DTEND;TZID=America/New_York:20260723T140000
DTSTAMP:20260421T141904
CREATED:20260326T195448Z
LAST-MODIFIED:20260326T195633Z
UID:10006335-1784815200-1784815200@columbusrecparks.com
SUMMARY:Feddersen – Mobile Produce Market
DESCRIPTION:Eligible families can pick up a one-week supply of fresh produce at no cost. Event is first-come\, first-served while produce lasts.
URL:https://columbusrecparks.com/calendar/feddersen-mobile-produce-market/2026-07-23/
LOCATION:Feddersen Community Center\, 3911 Dresden St.\, Columbus\, OH\, 43224\, United States
CATEGORIES:Feddersen Community Center,Food Office
END:VEVENT
END:VCALENDAR