BEGIN:VCALENDAR
VERSION:2.0
PRODID:-//Columbus Recreation and Parks Department - ECPv6.15.20//NONSGML v1.0//EN
CALSCALE:GREGORIAN
METHOD:PUBLISH
X-WR-CALNAME:Columbus Recreation and Parks Department
X-ORIGINAL-URL:https://columbusrecparks.com
X-WR-CALDESC:Events for Columbus Recreation and Parks Department
REFRESH-INTERVAL;VALUE=DURATION:PT1H
X-Robots-Tag:noindex
X-PUBLISHED-TTL:PT1H
BEGIN:VTIMEZONE
TZID:America/New_York
BEGIN:DAYLIGHT
TZOFFSETFROM:-0500
TZOFFSETTO:-0400
TZNAME:EDT
DTSTART:20250309T070000
END:DAYLIGHT
BEGIN:STANDARD
TZOFFSETFROM:-0400
TZOFFSETTO:-0500
TZNAME:EST
DTSTART:20251102T060000
END:STANDARD
BEGIN:DAYLIGHT
TZOFFSETFROM:-0500
TZOFFSETTO:-0400
TZNAME:EDT
DTSTART:20260308T070000
END:DAYLIGHT
BEGIN:STANDARD
TZOFFSETFROM:-0400
TZOFFSETTO:-0500
TZNAME:EST
DTSTART:20261101T060000
END:STANDARD
BEGIN:DAYLIGHT
TZOFFSETFROM:-0500
TZOFFSETTO:-0400
TZNAME:EDT
DTSTART:20270314T070000
END:DAYLIGHT
BEGIN:STANDARD
TZOFFSETFROM:-0400
TZOFFSETTO:-0500
TZNAME:EST
DTSTART:20271107T060000
END:STANDARD
END:VTIMEZONE
BEGIN:VEVENT
DTSTART;TZID=America/New_York:20260422T163000
DTEND;TZID=America/New_York:20260422T193000
DTSTAMP:20260421T045210
CREATED:20260408T150030Z
LAST-MODIFIED:20260408T150238Z
UID:10006703-1776875400-1776886200@columbusrecparks.com
SUMMARY:Linden Green Line - Second Public Open House
DESCRIPTION:Have a say in the future of the Linden Green Line! Join us for a community open house\, and help shape this 7-mile linear park connecting North Linden\, South Linden\, Northland\, North Central and Northeast neighborhoods. The open house will be held on Wednesday\, April 22\, from 4:30 p.m.-7:30 p.m. at Linden Community Center\, located at 1350 Briarwood Ave.\, Columbus\, 43211. \nThis interactive workshop is your chance to weigh in on design\, programming\, safety and amenities. Your input will directly guide what comes next. We hope to see you there! \nRSVPing for the event is encouraged\, but not required. Let us know you will be attending today! \nLearn more about the Linden Green Line project here.
URL:https://columbusrecparks.com/calendar/linden-green-line-second-public-open-house/
LOCATION:Linden Community Center\, 1350 Briarwood Ave.\, Columbus\, OH\, 43211\, United States
CATEGORIES:Department Events,Featured,Linden Community Center
ATTACH;FMTTYPE=image/jpeg:https://columbusrecparks.com/wp-content/uploads/2026/04/IMG_5637-scaled-e1775660199769.jpg
END:VEVENT
BEGIN:VEVENT
DTSTART;TZID=America/New_York:20260422T173000
DTEND;TZID=America/New_York:20260422T190000
DTSTAMP:20260421T045210
CREATED:20260303T162957Z
LAST-MODIFIED:20260303T163938Z
UID:10006216-1776879000-1776884400@columbusrecparks.com
SUMMARY:Family Night: Earth Day
DESCRIPTION:Celebrate the season with the Therapeutic Recreation team! Families are invited to join us for an evening of fun\, featuring games\, crafts\, and sweet treats! Make sure that all family members who will be attending are registered (including parents/guardians)! You can click here to register online.\n\nNote: Caregivers of participants under 18 or those needing 1:1 support for personal care or behavior must remain on-site.\n\nHave questions? Contact Emily Jo at EJCreasap@columbus.gov
URL:https://columbusrecparks.com/calendar/family-night-earth-day/
LOCATION:Espy Adaptive Sports Complex\, 1755 E Broad St.\, Columbus\, OH\, 43203\, United States
CATEGORIES:Therapeutic Recreation
END:VEVENT
BEGIN:VEVENT
DTSTART;TZID=America/New_York:20260423T120000
DTEND;TZID=America/New_York:20260423T130000
DTSTAMP:20260421T045210
CREATED:20260413T203657Z
LAST-MODIFIED:20260414T150718Z
UID:10006729-1776945600-1776949200@columbusrecparks.com
SUMMARY:Conversations & Coffee: Connie S. Logan
DESCRIPTION:The Priscilla R. Tyson Cultural Arts Center is proud to host the city’s longest-running series of artist talks – Conversations & Coffee. \nAttendees have the chance to gain key insight on art from a variety of people from different corners of the art world. Take a look at our upcoming weekly lunchtime art talks below\, or feel free to check out our calendar to see everything we have coming up on the schedule! \nOur free program\, which we have presented for more than 35 years\, brings together people who create art and people who appreciate art to discuss it in a relaxed\, casual setting. You bring a sack lunch\, we’ll provide the coffee and the expertise. \nConnie S. Logan  – Community Relations Liaison – A New Beginning for the Janis Junction Railroad: Model Railroad Studio
URL:https://columbusrecparks.com/calendar/conversations-coffee-connie-s-logan/
LOCATION:Fran Ryan Center\, 865 E Capital S\, Columbus\, OH\, 43204\, United States
CATEGORIES:Arts,Conversation and Coffee,Tyson Cultural Arts Center
ATTACH;FMTTYPE=image/jpeg:https://columbusrecparks.com/wp-content/uploads/2026/04/Coffee-Feature.jpg
END:VEVENT
BEGIN:VEVENT
DTSTART;TZID=America/New_York:20260423T140000
DTEND;TZID=America/New_York:20260423T140000
DTSTAMP:20260421T045210
CREATED:20260326T195448Z
LAST-MODIFIED:20260326T195633Z
UID:10006332-1776952800-1776952800@columbusrecparks.com
SUMMARY:Feddersen – Mobile Produce Market
DESCRIPTION:Eligible families can pick up a one-week supply of fresh produce at no cost. Event is first-come\, first-served while produce lasts.
URL:https://columbusrecparks.com/calendar/feddersen-mobile-produce-market/2026-04-23/
LOCATION:Feddersen Community Center\, 3911 Dresden St.\, Columbus\, OH\, 43224\, United States
CATEGORIES:Feddersen Community Center,Food Office
END:VEVENT
BEGIN:VEVENT
DTSTART;TZID=America/New_York:20260423T140000
DTEND;TZID=America/New_York:20260423T140000
DTSTAMP:20260421T045210
CREATED:20260326T195938Z
LAST-MODIFIED:20260401T151352Z
UID:10006340-1776952800-1776952800@columbusrecparks.com
SUMMARY:Howard – Mobile Produce Market
DESCRIPTION:Eligible families can pick up a one-week supply of fresh produce at no cost. Event is first-come\, first-served while produce lasts.
URL:https://columbusrecparks.com/calendar/howard-mobile-produce-market/2026-04-23/
LOCATION:Howard Community Center\, 2505 N. Cassady Ave.\, Columbus\, OH\, 43219\, United States
CATEGORIES:Food Office,Howard Community Center
END:VEVENT
BEGIN:VEVENT
DTSTART;VALUE=DATE:20260424
DTEND;VALUE=DATE:20260427
DTSTAMP:20260421T045210
CREATED:20260202T163218Z
LAST-MODIFIED:20260202T163218Z
UID:10006203-1776988800-1777247999@columbusrecparks.com
SUMMARY:Breaking Stigmas
DESCRIPTION:Five Tool Youth \nJohn Bradford \n440-227-7975
URL:https://columbusrecparks.com/calendar/breaking-stigmas/
LOCATION:Lou Berliner Sports Park\, 325 Greenlawn Ave.\, Columbus\, OH\, 43223\, United States
CATEGORIES:Lou Berliner Sports Park Tournaments,Youth Baseball,Youth Sports
END:VEVENT
BEGIN:VEVENT
DTSTART;TZID=America/New_York:20260425T100000
DTEND;TZID=America/New_York:20260425T130000
DTSTAMP:20260421T045210
CREATED:20260106T202158Z
LAST-MODIFIED:20260106T202901Z
UID:10006167-1777111200-1777122000@columbusrecparks.com
SUMMARY:Fran Ryan Center: Demo Day
DESCRIPTION:Join the Fran Ryan Center on Saturday\, April 25\, 10 a.m.- 1 p.m.\, for Demo Day! \nThis is a chance for prospective students to learn about our studios\, meet some of our talented staff and instructors\, and get their creativity flowing for their next masterpiece. Our team can register you on-site the same day for any class you are interested in taking! See for yourself how many amazing things are created in our building.
URL:https://columbusrecparks.com/calendar/fran-ryan-center-demo-day-2/
LOCATION:Fran Ryan Center\, 865 E Capital S\, Columbus\, OH\, 43204\, United States
CATEGORIES:Arts,Department Events,Featured,Fran Ryan Center
ATTACH;FMTTYPE=image/jpeg:https://columbusrecparks.com/wp-content/uploads/2026/01/IMG_4871-scaled-e1767731334757.jpg
END:VEVENT
BEGIN:VEVENT
DTSTART;VALUE=DATE:20260501
DTEND;VALUE=DATE:20260504
DTSTAMP:20260421T045210
CREATED:20260317T173928Z
LAST-MODIFIED:20260317T173928Z
UID:10006218-1777593600-1777852799@columbusrecparks.com
SUMMARY:Captial City Krusher
DESCRIPTION:Midwest Tournament Factory \nBrett Hossler \n419-618-0936
URL:https://columbusrecparks.com/calendar/captial-city-krusher/
LOCATION:Lou Berliner Sports Park\, 325 Greenlawn Ave.\, Columbus\, OH\, 43223\, United States
CATEGORIES:Youth Baseball,Youth Sports
END:VEVENT
BEGIN:VEVENT
DTSTART;VALUE=DATE:20260502
DTEND;VALUE=DATE:20260504
DTSTAMP:20260421T045210
CREATED:20260317T174046Z
LAST-MODIFIED:20260317T174046Z
UID:10006220-1777680000-1777852799@columbusrecparks.com
SUMMARY:Spring Nationals
DESCRIPTION:One Nation\nBill Walters\n614-226-3093
URL:https://columbusrecparks.com/calendar/spring-nationals/
LOCATION:Lou Berliner Sports Park\, 325 Greenlawn Ave.\, Columbus\, OH\, 43223\, United States
CATEGORIES:Adult Softball,Adult Sports,Lou Berliner Sports Park Tournaments
END:VEVENT
BEGIN:VEVENT
DTSTART;TZID=America/New_York:20260502T080000
DTEND;TZID=America/New_York:20260503T170000
DTSTAMP:20260421T045210
CREATED:20260317T174011Z
LAST-MODIFIED:20260317T174011Z
UID:10006219-1777708800-1777827600@columbusrecparks.com
SUMMARY:Buckeye Classic
DESCRIPTION:CLGSA\nAdrian Garcia\n614-571-6606
URL:https://columbusrecparks.com/calendar/buckeye-classic/
LOCATION:Lou Berliner Sports Park\, 325 Greenlawn Ave.\, Columbus\, OH\, 43223\, United States
CATEGORIES:Adult Softball,Adult Sports,Lou Berliner Sports Park Tournaments
END:VEVENT
BEGIN:VEVENT
DTSTART;TZID=America/New_York:20260502T170000
DTEND;TZID=America/New_York:20260502T170000
DTSTAMP:20260421T045210
CREATED:20260330T155745Z
LAST-MODIFIED:20260330T155745Z
UID:10006353-1777741200-1777741200@columbusrecparks.com
SUMMARY:Vonzell Warriors Boxing Showcase
DESCRIPTION:Join us at Lou Berliner Athletic Complex for Vonzell Boxing Showcase\, an exciting evening celebrating Coach Vonzell Johnson from Douglas Community Center. This special event highlights the incredible discipline\, strength and determination of fighters in our programs. \nEvent begins at 5 p.m.\, with doors opening at 4 p.m. General admission is $10 for adults and $5 for children; tickets can be purchased at the door. VIP tables (8 people per table) are $160 and can be purchased here. Doors open at 4 p.m.\, and the bouts begin at 5 p.m.
URL:https://columbusrecparks.com/calendar/vonzellwarriors/
LOCATION:Berliner Athletic Complex\, 1300 Deckebach Rd.\, Columbus\, OH\, 43223\, United States
CATEGORIES:Community Centers,Department Events,Featured,Lou Berliner Sports Park Tournaments,Youth Sports
ATTACH;FMTTYPE=image/jpeg:https://columbusrecparks.com/wp-content/uploads/2025/03/Boxing_Youth_2019-57-2-scaled-e1742911124888.jpg
END:VEVENT
BEGIN:VEVENT
DTSTART;VALUE=DATE:20260506
DTEND;VALUE=DATE:20260511
DTSTAMP:20260421T045210
CREATED:20260317T174127Z
LAST-MODIFIED:20260324T175255Z
UID:10006221-1778025600-1778457599@columbusrecparks.com
SUMMARY:Heart of Ohio Senior National
DESCRIPTION:CRPD / SPA\nCRPD\n614-645-3366
URL:https://columbusrecparks.com/calendar/heart-of-ohio-senior-national-2/
LOCATION:Lou Berliner Sports Park\, 325 Greenlawn Ave.\, Columbus\, OH\, 43223\, United States
CATEGORIES:Adult Softball,Adult Sports,Lou Berliner Sports Park Tournaments
END:VEVENT
BEGIN:VEVENT
DTSTART;VALUE=DATE:20260508
DTEND;VALUE=DATE:20260607
DTSTAMP:20260421T045210
CREATED:20260414T140444Z
LAST-MODIFIED:20260414T144058Z
UID:10006731-1778198400-1780790399@columbusrecparks.com
SUMMARY:Main Gallery: The Pandemic Portraits by Nicholas Hill
DESCRIPTION:The Pandemic Portraits by Nicholas Hill is an artifact of our times. The catalog by award-winning\, Guggenheim Fellow Nicholas Hill contains one hundred and five curated portraits from The Pandemic Portraits series (5\,000+ portraits to date). Each portrait uses a page from the New York Times or the Wall Street Journal as its ground.
URL:https://columbusrecparks.com/calendar/the-pandemic-portraits-by-nicholas-hill/
LOCATION:Priscilla R. Tyson Cultural Arts Center\, 139 W Main St.\, Columbus\, OH\, 43215\, United States
CATEGORIES:Main Gallery,Tyson Cultural Arts Center
ATTACH;FMTTYPE=image/jpeg:https://columbusrecparks.com/wp-content/uploads/2026/04/Hill2-e1776175451851.jpg
END:VEVENT
BEGIN:VEVENT
DTSTART;VALUE=DATE:20260508
DTEND;VALUE=DATE:20260607
DTSTAMP:20260421T045210
CREATED:20260414T142447Z
LAST-MODIFIED:20260414T144104Z
UID:10006735-1778198400-1780790399@columbusrecparks.com
SUMMARY:Loft Gallery: Staying in Place by Marge Bender and Barbara Vogel
DESCRIPTION:Opening Reception: Friday\, May 8\, 6-8pm
URL:https://columbusrecparks.com/calendar/staying-in-place-by-marge-bender-and-barbara-vogel/
LOCATION:Priscilla R. Tyson Cultural Arts Center\, 139 W Main St.\, Columbus\, OH\, 43215\, United States
CATEGORIES:Arts,Loft Gallery,Tyson Cultural Arts Center
ATTACH;FMTTYPE=image/jpeg:https://columbusrecparks.com/wp-content/uploads/2026/04/Picture4-e1776176677223.jpg
END:VEVENT
BEGIN:VEVENT
DTSTART;TZID=America/New_York:20260508T180000
DTEND;TZID=America/New_York:20260508T200000
DTSTAMP:20260421T045210
CREATED:20260414T140551Z
LAST-MODIFIED:20260414T141445Z
UID:10006732-1778263200-1778270400@columbusrecparks.com
SUMMARY:Opening Reception: The Pandemic Portraits by Nicholas Hill
DESCRIPTION:Free Event\, Complimentary Food and Drink Provided
URL:https://columbusrecparks.com/calendar/open-reception-the-pandemic-portraits-by-nicholas-hill/
LOCATION:Priscilla R. Tyson Cultural Arts Center\, 139 W Main St.\, Columbus\, OH\, 43215\, United States
CATEGORIES:Arts,Tyson Cultural Arts Center
END:VEVENT
BEGIN:VEVENT
DTSTART;VALUE=DATE:20260509
DTEND;VALUE=DATE:20260510
DTSTAMP:20260421T045210
CREATED:20260317T174225Z
LAST-MODIFIED:20260317T174225Z
UID:10006222-1778284800-1778371199@columbusrecparks.com
SUMMARY:Men's/Women's C/D
DESCRIPTION:One Nation\nCliff Majni\n216-374-1001
URL:https://columbusrecparks.com/calendar/mens-womens-c-d/
LOCATION:Lou Berliner Sports Park\, 325 Greenlawn Ave.\, Columbus\, OH\, 43223\, United States
CATEGORIES:Adult Softball,Adult Sports,Lou Berliner Sports Park Tournaments
END:VEVENT
BEGIN:VEVENT
DTSTART;VALUE=DATE:20260509
DTEND;VALUE=DATE:20260511
DTSTAMP:20260421T045210
CREATED:20260317T174343Z
LAST-MODIFIED:20260317T174343Z
UID:10006223-1778284800-1778457599@columbusrecparks.com
SUMMARY:USSSA Capital Cup
DESCRIPTION:USSSA\nDennis Dick\n513-623-0689
URL:https://columbusrecparks.com/calendar/usssa-capital-cup/
LOCATION:Lou Berliner Sports Park\, 325 Greenlawn Ave.\, Columbus\, OH\, 43223\, United States
CATEGORIES:Adult Softball,Adult Sports,Lou Berliner Sports Park Tournaments
END:VEVENT
BEGIN:VEVENT
DTSTART;VALUE=DATE:20260516
DTEND;VALUE=DATE:20260518
DTSTAMP:20260421T045210
CREATED:20260317T174429Z
LAST-MODIFIED:20260317T174429Z
UID:10006224-1778889600-1779062399@columbusrecparks.com
SUMMARY:Striking Out Pediatric Cancer
DESCRIPTION:COYBL\nDoug Hare\n614-778-1391
URL:https://columbusrecparks.com/calendar/striking-out-pediatric-cancer/
LOCATION:Lou Berliner Sports Park\, 325 Greenlawn Ave.\, Columbus\, OH\, 43223\, United States
CATEGORIES:Lou Berliner Sports Park Tournaments,Youth Baseball,Youth Fastpitch,Youth Sports
END:VEVENT
BEGIN:VEVENT
DTSTART;VALUE=DATE:20260517
DTEND;VALUE=DATE:20260520
DTSTAMP:20260421T045210
CREATED:20260317T174513Z
LAST-MODIFIED:20260317T174513Z
UID:10006225-1778976000-1779235199@columbusrecparks.com
SUMMARY:Columbus Baseball Invite
DESCRIPTION:Torah Acad\nLisa Kaufman\n614-638-5211
URL:https://columbusrecparks.com/calendar/columbus-baseball-invite/
LOCATION:Lou Berliner Sports Park\, 325 Greenlawn Ave.\, Columbus\, OH\, 43223\, United States
CATEGORIES:Lou Berliner Sports Park Tournaments,Youth Baseball,Youth Sports
END:VEVENT
BEGIN:VEVENT
DTSTART;VALUE=DATE:20260522
DTEND;VALUE=DATE:20260525
DTSTAMP:20260421T045210
CREATED:20260317T174552Z
LAST-MODIFIED:20260317T174552Z
UID:10006226-1779408000-1779667199@columbusrecparks.com
SUMMARY:Jerry Myers Firefighters Memorial
DESCRIPTION:Moore Tournaments\nSchawn Phillips\n740-207-0800
URL:https://columbusrecparks.com/calendar/jerry-myers-firefighters-memorial/
LOCATION:Lou Berliner Sports Park\, 325 Greenlawn Ave.\, Columbus\, OH\, 43223\, United States
CATEGORIES:Lou Berliner Sports Park Tournaments,Youth Fastpitch
END:VEVENT
BEGIN:VEVENT
DTSTART;VALUE=DATE:20260523
DTEND;VALUE=DATE:20260525
DTSTAMP:20260421T045210
CREATED:20260317T174631Z
LAST-MODIFIED:20260317T174631Z
UID:10006227-1779494400-1779667199@columbusrecparks.com
SUMMARY:Memorial Classic
DESCRIPTION:MVP Tournaments\nDave McCann\n513-415-7855
URL:https://columbusrecparks.com/calendar/memorial-classic/
LOCATION:Lou Berliner Sports Park\, 325 Greenlawn Ave.\, Columbus\, OH\, 43223\, United States
CATEGORIES:Lou Berliner Sports Park Tournaments,Youth Baseball
END:VEVENT
BEGIN:VEVENT
DTSTART;TZID=America/New_York:20260528T180000
DTEND;TZID=America/New_York:20260528T200000
DTSTAMP:20260421T045210
CREATED:20260406T174909Z
LAST-MODIFIED:20260406T174909Z
UID:10006702-1779991200-1779998400@columbusrecparks.com
SUMMARY:Downtown Silent Disco
DESCRIPTION:In partnership with Downtown Columbus\, Inc. Flip through stations of chart-toppers and hot hits while dancing to the beat at outdoor locations around Downtown. \nThis event is coordinated by Downtown Columbus\, Inc.\, please follow their Facebook or Instagram for updates.
URL:https://columbusrecparks.com/calendar/downtown-silent-disco/
LOCATION:Topiary Garden at Deaf School Park\, 480 E Town St\, Columbus\, OH\, 43215\, United States
CATEGORIES:Department Events,Featured
ATTACH;FMTTYPE=image/png:https://columbusrecparks.com/wp-content/uploads/2026/04/2026-Website-Calendar-Photos_Downtown-Silent-Disco-Series.png
END:VEVENT
BEGIN:VEVENT
DTSTART;VALUE=DATE:20260529
DTEND;VALUE=DATE:20260601
DTSTAMP:20260421T045210
CREATED:20260317T174707Z
LAST-MODIFIED:20260317T174707Z
UID:10006228-1780012800-1780271999@columbusrecparks.com
SUMMARY:Capital City Showdown
DESCRIPTION:Fastpitch Showdowns\nAsh Beckham\n720-339-3310
URL:https://columbusrecparks.com/calendar/capital-city-showdown/
LOCATION:Lou Berliner Sports Park\, 325 Greenlawn Ave.\, Columbus\, OH\, 43223\, United States
CATEGORIES:Lou Berliner Sports Park Tournaments,Youth Fastpitch
END:VEVENT
BEGIN:VEVENT
DTSTART;TZID=America/New_York:20260601T181500
DTEND;TZID=America/New_York:20260601T201500
DTSTAMP:20260421T045210
CREATED:20260406T155411Z
LAST-MODIFIED:20260409T192457Z
UID:10006358-1780337700-1780344900@columbusrecparks.com
SUMMARY:Monday Downtown Fitness Classes
DESCRIPTION:In partnership with Downtown Columbus\, Inc.\, enjoy free outdoor fitness classes designed for all skill levels. \nClasses June 1 – Sept. 28 \n6:15 p.m.: Mat Pilates by 614FitClub \n7:15 p.m.: Yoga by 614FitClub \nClick here to sign up for updates and to complete the fitness waiver. \nThese classes are coordinated by Downtown Columbus\, Inc.\, please follow their Facebook or Instagram for updates on these classes.
URL:https://columbusrecparks.com/calendar/downtown-fitness-classes/2026-06-01/
LOCATION:Bicentennial Park\, 233 Civic Center Dr.\, Columbus\, OH\, 43215\, United States
CATEGORIES:Department Events,Featured
ATTACH;FMTTYPE=image/png:https://columbusrecparks.com/wp-content/uploads/2026/04/2026-Website-Calendar-Photos_Downtown-Free-Fitness-Classes.png
END:VEVENT
BEGIN:VEVENT
DTSTART;TZID=America/New_York:20260602T100000
DTEND;TZID=America/New_York:20260602T130000
DTSTAMP:20260421T045210
CREATED:20260406T172951Z
LAST-MODIFIED:20260409T192631Z
UID:10006637-1780394400-1780405200@columbusrecparks.com
SUMMARY:Dorrian Days
DESCRIPTION:In partnership with Downtown Columbus\, Inc.\, find free family fun\, including giant inflatables\, games\, a themed activity station\, a food truck\, and the Dorrian Green water feature. \nThis event is coordinated by Downtown Columbus\, Inc.\, please follow their Facebook or Instagram for updates.
URL:https://columbusrecparks.com/calendar/dorrian-days/2026-06-02/
LOCATION:Dorrian Green\, 50 S. Belle Street\, Columbus\, OH\, 43215\, United States
CATEGORIES:Department Events,Featured
ATTACH;FMTTYPE=image/png:https://columbusrecparks.com/wp-content/uploads/2026/04/2026-Website-Calendar-Photos_Dorrian-Days-Robb-McCormick-Photography-.png
END:VEVENT
BEGIN:VEVENT
DTSTART;TZID=America/New_York:20260604T181500
DTEND;TZID=America/New_York:20260604T201500
DTSTAMP:20260421T045210
CREATED:20260406T171652Z
LAST-MODIFIED:20260409T192652Z
UID:10006566-1780596900-1780604100@columbusrecparks.com
SUMMARY:Thursday Downtown Fitness Classes
DESCRIPTION:In partnership with Downtown Columbus\, Inc.\, enjoy free outdoor fitness classes designed for all skill levels. \nClasses June 1 – Sept. 28 \n6:15 p.m.: HIIT by Quality Wellness (pop-up locations TBA) \n7:15 p.m.: Yoga by Quality Wellness (pop-up locations TBA) \nClick here to sign up for updates and to complete the fitness waiver. \nThese classes are coordinated by Downtown Columbus\, Inc.\, please follow their Facebook or Instagram for updates on these classes.
URL:https://columbusrecparks.com/calendar/thursday-downtown-fitness-classes/2026-06-04/
LOCATION:Scioto Mile\, 233 S. Civic Center Dr\, Columbus\, OH\, 43215\, United States
CATEGORIES:Department Events,Featured
ATTACH;FMTTYPE=image/png:https://columbusrecparks.com/wp-content/uploads/2026/04/2026-Website-Calendar-Photos_Downtown-Free-Fitness-Classes.png
END:VEVENT
BEGIN:VEVENT
DTSTART;VALUE=DATE:20260605
DTEND;VALUE=DATE:20260608
DTSTAMP:20260421T045210
CREATED:20260317T174756Z
LAST-MODIFIED:20260317T174756Z
UID:10006229-1780617600-1780876799@columbusrecparks.com
SUMMARY:Midwest Select Showcase
DESCRIPTION:Youth FP\nSelect Showcases\nMark Skapin\n440-454-0267
URL:https://columbusrecparks.com/calendar/midwest-select-showcase/
LOCATION:Lou Berliner Sports Park\, 325 Greenlawn Ave.\, Columbus\, OH\, 43223\, United States
CATEGORIES:Lou Berliner Sports Park Tournaments,Youth Fastpitch
END:VEVENT
BEGIN:VEVENT
DTSTART;TZID=America/New_York:20260607T101500
DTEND;TZID=America/New_York:20260607T121500
DTSTAMP:20260421T045210
CREATED:20260406T155654Z
LAST-MODIFIED:20260409T192705Z
UID:10006497-1780827300-1780834500@columbusrecparks.com
SUMMARY:Sunday Downtown Fitness Classes
DESCRIPTION:In partnership with Downtown Columbus\, Inc.\, enjoy free outdoor fitness classes designed for all skill levels. \nClasses June 1 – Sept. 28 \n10:15 a.m.: Mat Pilates \n11:15 a.m.: Yoga by 614FitClub \nClick here to sign up for updates and to complete the fitness waiver. \nThese classes are coordinated by Downtown Columbus\, Inc.\, please follow their Facebook or Instagram for updates on these classes.
URL:https://columbusrecparks.com/calendar/downtown-fitness-classes-2/2026-06-07/
LOCATION:The Peninsula\, 77 Belle St.\, Columbus\, 43215\, United States
CATEGORIES:Department Events,Featured
ATTACH;FMTTYPE=image/png:https://columbusrecparks.com/wp-content/uploads/2026/04/2026-Website-Calendar-Photos_Downtown-Free-Fitness-Classes.png
END:VEVENT
BEGIN:VEVENT
DTSTART;VALUE=DATE:20260612
DTEND;VALUE=DATE:20260615
DTSTAMP:20260421T045210
CREATED:20260317T175429Z
LAST-MODIFIED:20260317T175429Z
UID:10006230-1781222400-1781481599@columbusrecparks.com
SUMMARY:Laser Nation Showcase & National Qualifier
DESCRIPTION:Lasers\nMark Skapin\n440-454-0267
URL:https://columbusrecparks.com/calendar/laser-nation-showcase-national-qualifier/
LOCATION:Lou Berliner Sports Park\, 325 Greenlawn Ave.\, Columbus\, OH\, 43223\, United States
CATEGORIES:Lou Berliner Sports Park Tournaments,Youth Fastpitch
END:VEVENT
BEGIN:VEVENT
DTSTART;VALUE=DATE:20260612
DTEND;VALUE=DATE:20260719
DTSTAMP:20260421T045210
CREATED:20260414T141250Z
LAST-MODIFIED:20260414T144146Z
UID:10006733-1781222400-1784419199@columbusrecparks.com
SUMMARY:Main Gallery: Centered 2026 - Student/Faculty Show
DESCRIPTION:Centered. The 2026 Student/ Faculty Exhibit at the Priscilla R. Tyson Cultural Arts Center. \nMore info coming soon.
URL:https://columbusrecparks.com/calendar/centered-2026-student-faculty-show/
LOCATION:Priscilla R. Tyson Cultural Arts Center\, 139 W Main St.\, Columbus\, OH\, 43215\, United States
CATEGORIES:Arts,Main Gallery,Tyson Cultural Arts Center
ATTACH;FMTTYPE=image/jpeg:https://columbusrecparks.com/wp-content/uploads/2026/04/Centered-2026-logo-e1776175889782.jpg
END:VEVENT
END:VCALENDAR