BEGIN:VCALENDAR
VERSION:2.0
PRODID:-//Columbus Recreation and Parks Department - ECPv6.15.20//NONSGML v1.0//EN
CALSCALE:GREGORIAN
METHOD:PUBLISH
X-WR-CALNAME:Columbus Recreation and Parks Department
X-ORIGINAL-URL:https://columbusrecparks.com
X-WR-CALDESC:Events for Columbus Recreation and Parks Department
REFRESH-INTERVAL;VALUE=DURATION:PT1H
X-Robots-Tag:noindex
X-PUBLISHED-TTL:PT1H
BEGIN:VTIMEZONE
TZID:America/New_York
BEGIN:DAYLIGHT
TZOFFSETFROM:-0500
TZOFFSETTO:-0400
TZNAME:EDT
DTSTART:20250309T070000
END:DAYLIGHT
BEGIN:STANDARD
TZOFFSETFROM:-0400
TZOFFSETTO:-0500
TZNAME:EST
DTSTART:20251102T060000
END:STANDARD
BEGIN:DAYLIGHT
TZOFFSETFROM:-0500
TZOFFSETTO:-0400
TZNAME:EDT
DTSTART:20260308T070000
END:DAYLIGHT
BEGIN:STANDARD
TZOFFSETFROM:-0400
TZOFFSETTO:-0500
TZNAME:EST
DTSTART:20261101T060000
END:STANDARD
BEGIN:DAYLIGHT
TZOFFSETFROM:-0500
TZOFFSETTO:-0400
TZNAME:EDT
DTSTART:20270314T070000
END:DAYLIGHT
BEGIN:STANDARD
TZOFFSETFROM:-0400
TZOFFSETTO:-0500
TZNAME:EST
DTSTART:20271107T060000
END:STANDARD
END:VTIMEZONE
BEGIN:VEVENT
DTSTART;TZID=America/New_York:20260515T190000
DTEND;TZID=America/New_York:20260515T210000
DTSTAMP:20260421T174738
CREATED:20260421T184259Z
LAST-MODIFIED:20260421T185623Z
UID:10006736-1778871600-1778878800@columbusrecparks.com
SUMMARY:Westgate Children's Theatre presents Mary Poppins Jr.
DESCRIPTION:Your favorite practically perfect nanny takes center stage in this Supercalifragilisticexpialidocious adventure based on the award-winning Broadway musical and classic Walt Disney film. \nPerformances\nFriday\, May 15 |  7pm\nSaturday May 16 |  7pm\nSunday May 17 | 2pm \nWestgate Community Center | 455 S. Westgate Ave  \nTickets: $5 at the door \nFor more information\, call (614) 645-3264 or email SMSchirtzinger@columbus.gov
URL:https://columbusrecparks.com/calendar/westgate-childrens-theatre-presents-mary-poppins-jr/2026-05-15/
CATEGORIES:Community Centers,Department Events,Featured,Theatre Productions,Westgate Community Center
ATTACH;FMTTYPE=image/png:https://columbusrecparks.com/wp-content/uploads/2026/04/Umbrella-Modern-Minimal-Music-Album-Cover-Art-Video-2.png
END:VEVENT
BEGIN:VEVENT
DTSTART;TZID=America/New_York:20260516T190000
DTEND;TZID=America/New_York:20260516T210000
DTSTAMP:20260421T174738
CREATED:20260421T184259Z
LAST-MODIFIED:20260421T185623Z
UID:10006737-1778958000-1778965200@columbusrecparks.com
SUMMARY:Westgate Children's Theatre presents Mary Poppins Jr.
DESCRIPTION:Your favorite practically perfect nanny takes center stage in this Supercalifragilisticexpialidocious adventure based on the award-winning Broadway musical and classic Walt Disney film. \nPerformances\nFriday\, May 15 |  7pm\nSaturday May 16 |  7pm\nSunday May 17 | 2pm \nWestgate Community Center | 455 S. Westgate Ave  \nTickets: $5 at the door \nFor more information\, call (614) 645-3264 or email SMSchirtzinger@columbus.gov
URL:https://columbusrecparks.com/calendar/westgate-childrens-theatre-presents-mary-poppins-jr/2026-05-16/
CATEGORIES:Community Centers,Department Events,Featured,Theatre Productions,Westgate Community Center
ATTACH;FMTTYPE=image/png:https://columbusrecparks.com/wp-content/uploads/2026/04/Umbrella-Modern-Minimal-Music-Album-Cover-Art-Video-2.png
END:VEVENT
BEGIN:VEVENT
DTSTART;TZID=America/New_York:20260517T140000
DTEND;TZID=America/New_York:20260517T160000
DTSTAMP:20260421T174738
CREATED:20260421T184259Z
LAST-MODIFIED:20260421T185623Z
UID:10006738-1779026400-1779033600@columbusrecparks.com
SUMMARY:Westgate Children's Theatre presents Mary Poppins Jr.
DESCRIPTION:Your favorite practically perfect nanny takes center stage in this Supercalifragilisticexpialidocious adventure based on the award-winning Broadway musical and classic Walt Disney film. \nPerformances\nFriday\, May 15 |  7pm\nSaturday May 16 |  7pm\nSunday May 17 | 2pm \nWestgate Community Center | 455 S. Westgate Ave  \nTickets: $5 at the door \nFor more information\, call (614) 645-3264 or email SMSchirtzinger@columbus.gov
URL:https://columbusrecparks.com/calendar/westgate-childrens-theatre-presents-mary-poppins-jr/2026-05-17/
CATEGORIES:Community Centers,Department Events,Featured,Theatre Productions,Westgate Community Center
ATTACH;FMTTYPE=image/png:https://columbusrecparks.com/wp-content/uploads/2026/04/Umbrella-Modern-Minimal-Music-Album-Cover-Art-Video-2.png
END:VEVENT
END:VCALENDAR