BEGIN:VCALENDAR
VERSION:2.0
PRODID:-//Columbus Recreation and Parks Department - ECPv6.15.20//NONSGML v1.0//EN
CALSCALE:GREGORIAN
METHOD:PUBLISH
X-ORIGINAL-URL:https://columbusrecparks.com
X-WR-CALDESC:Events for Columbus Recreation and Parks Department
REFRESH-INTERVAL;VALUE=DURATION:PT1H
X-Robots-Tag:noindex
X-PUBLISHED-TTL:PT1H
BEGIN:VTIMEZONE
TZID:America/New_York
BEGIN:DAYLIGHT
TZOFFSETFROM:-0500
TZOFFSETTO:-0400
TZNAME:EDT
DTSTART:20250309T070000
END:DAYLIGHT
BEGIN:STANDARD
TZOFFSETFROM:-0400
TZOFFSETTO:-0500
TZNAME:EST
DTSTART:20251102T060000
END:STANDARD
BEGIN:DAYLIGHT
TZOFFSETFROM:-0500
TZOFFSETTO:-0400
TZNAME:EDT
DTSTART:20260308T070000
END:DAYLIGHT
BEGIN:STANDARD
TZOFFSETFROM:-0400
TZOFFSETTO:-0500
TZNAME:EST
DTSTART:20261101T060000
END:STANDARD
BEGIN:DAYLIGHT
TZOFFSETFROM:-0500
TZOFFSETTO:-0400
TZNAME:EDT
DTSTART:20270314T070000
END:DAYLIGHT
BEGIN:STANDARD
TZOFFSETFROM:-0400
TZOFFSETTO:-0500
TZNAME:EST
DTSTART:20271107T060000
END:STANDARD
END:VTIMEZONE
BEGIN:VEVENT
DTSTART;VALUE=DATE:20261017
DTEND;VALUE=DATE:20261019
DTSTAMP:20260421T151747
CREATED:20260202T164341Z
LAST-MODIFIED:20260202T164341Z
UID:10006208-1792195200-1792367999@columbusrecparks.com
SUMMARY:D1 Fall Showcase
DESCRIPTION:D1 Fastpitch\n\n\n\nEmma Wolff \n216-280-0841
URL:https://columbusrecparks.com/calendar/d1-fall-showcase/
LOCATION:Lou Berliner Sports Park\, 325 Greenlawn Ave.\, Columbus\, OH\, 43223\, United States
CATEGORIES:Lou Berliner Sports Park Tournaments,Youth Fastpitch
END:VEVENT
BEGIN:VEVENT
DTSTART;TZID=America/New_York:20261022T140000
DTEND;TZID=America/New_York:20261022T140000
DTSTAMP:20260421T151747
CREATED:20260326T195448Z
LAST-MODIFIED:20260326T195633Z
UID:10006338-1792677600-1792677600@columbusrecparks.com
SUMMARY:Feddersen – Mobile Produce Market
DESCRIPTION:Eligible families can pick up a one-week supply of fresh produce at no cost. Event is first-come\, first-served while produce lasts.
URL:https://columbusrecparks.com/calendar/feddersen-mobile-produce-market/2026-10-22/
LOCATION:Feddersen Community Center\, 3911 Dresden St.\, Columbus\, OH\, 43224\, United States
CATEGORIES:Feddersen Community Center,Food Office
END:VEVENT
BEGIN:VEVENT
DTSTART;TZID=America/New_York:20261022T140000
DTEND;TZID=America/New_York:20261022T140000
DTSTAMP:20260421T151747
CREATED:20260326T195938Z
LAST-MODIFIED:20260401T151352Z
UID:10006346-1792677600-1792677600@columbusrecparks.com
SUMMARY:Howard – Mobile Produce Market
DESCRIPTION:Eligible families can pick up a one-week supply of fresh produce at no cost. Event is first-come\, first-served while produce lasts.
URL:https://columbusrecparks.com/calendar/howard-mobile-produce-market/2026-10-22/
LOCATION:Howard Community Center\, 2505 N. Cassady Ave.\, Columbus\, OH\, 43219\, United States
CATEGORIES:Food Office,Howard Community Center
END:VEVENT
BEGIN:VEVENT
DTSTART;VALUE=DATE:20261023
DTEND;VALUE=DATE:20261024
DTSTAMP:20260421T151747
CREATED:20260202T165149Z
LAST-MODIFIED:20260202T165217Z
UID:10006209-1792713600-1792799999@columbusrecparks.com
SUMMARY:Friday Frights
DESCRIPTION:Registration: Oct. 3-17 \nRegister
URL:https://columbusrecparks.com/calendar/friday-frights/
LOCATION:Lou Berliner Sports Park\, 325 Greenlawn Ave.\, Columbus\, OH\, 43223\, United States
CATEGORIES:Adult Softball,Adult Sports,Department Events,Featured,Lou Berliner Sports Park Tournaments
ATTACH;FMTTYPE=image/jpeg:https://columbusrecparks.com/wp-content/uploads/2022/05/HalloweenSoftballTournament_Adult_LouBerlinerSportsPark-5-scaled.jpg
END:VEVENT
BEGIN:VEVENT
DTSTART;TZID=America/New_York:20261024T100000
DTEND;TZID=America/New_York:20261024T130000
DTSTAMP:20260421T151747
CREATED:20260106T202312Z
LAST-MODIFIED:20260106T204148Z
UID:10006169-1792836000-1792846800@columbusrecparks.com
SUMMARY:Fran Ryan Center: Demo Day
DESCRIPTION:Join the Fran Ryan Center on Saturday\, Oct. 24\, 10 a.m.- 1 p.m.\, for Demo Day! \nThis is a chance for prospective students to learn about our studios\, meet some of our talented staff and instructors\, and get their creativity flowing for their next masterpiece. Our team can register you on-site the same day for any class you are interested in taking! See for yourself how many amazing things are created in our building.
URL:https://columbusrecparks.com/calendar/fran-ryan-center-demo-day-5/
LOCATION:Fran Ryan Center\, 865 E Capital S\, Columbus\, OH\, 43204\, United States
CATEGORIES:Arts,Department Events,Featured,Fran Ryan Center
ATTACH;FMTTYPE=image/jpeg:https://columbusrecparks.com/wp-content/uploads/2026/01/IMG_2037-scaled-e1767732103293.jpg
END:VEVENT
END:VCALENDAR